BEGIN:VCALENDAR
VERSION:2.0
PRODID:spatie/icalendar-generator
DESCRIPTION:東京のフラダンス教室 | Ka hokulaniのイベント
X-WR-CALDESC:東京のフラダンス教室 | Ka hokulaniのイベント
REFRESH-INTERVAL;VALUE=DURATION:PT1440M
X-PUBLISHED-TTL:PT1440M
BEGIN:VTIMEZONE
TZID:Asia/Tokyo
BEGIN:STANDARD
DTSTART:20250916T121500Z
TZOFFSETFROM:+0900
TZOFFSETTO:+0900
END:STANDARD
END:VTIMEZONE
BEGIN:VTIMEZONE
TZID:UTC
BEGIN:STANDARD
DTSTART:20250725T111000Z
TZOFFSETFROM:+0000
TZOFFSETTO:+0000
END:STANDARD
END:VTIMEZONE
BEGIN:VEVENT
UID:180-164
DTSTAMP:20260421T111000Z
SUMMARY:レッスン代々木303(初心者向け)(体験可)
LOCATION:
ORGANIZER;CN=motoe:MAILTO:motoe@kahokulani.com
DTSTART;TZID=Asia/Tokyo:20260613T121500
DTEND;TZID=Asia/Tokyo:20260613T134500
X-ALT-DESC;FMTTYPE=TEXT/HTML:
CATEGORIES:レッスン
URL;VALUE=URI:https://kahokulani.com/mc-events/%e3%83%ac%e3%83%83%e3%82%b9%
 e3%83%b3%e4%bb%a3%e3%80%85%e6%9c%a8303%e5%88%9d%e5%bf%83%e8%80%85%e5%90%91
 %e3%81%91%e4%bd%93%e9%a8%93%e5%8f%af/
METHOD:PUBLISH
END:VEVENT
END:VCALENDAR